BEGIN:VCALENDAR
VERSION:2.0
PRODID:-//eventon.com NONSGML v1.0//EN
CALSCALE:GREGORIAN
METHOD:PUBLISH
BEGIN:VEVENT
UID:69e9e9a33e214
DTSTAMP:20260423T094259Z
DTSTART:20220726T160000Z
DTEND:20220727T045000Z
LOCATION:
SUMMARY:USDOE Webinar - Driving Decarbonization with 50001 Ready
DESCRIPTION:USDOE Webinar - Driving Decarbonization with 50001 Ready\nhttps
 ://www.texaspaceauthority.org/events/usdoe-webinar-driving-decarbonization-
 with-50001-ready/
URL:https://www.texaspaceauthority.org/events/usdoe-webinar-driving-decarbonization-with-50001-ready/
END:VEVENT
END:VCALENDAR