BEGIN:VCALENDAR
VERSION:2.0
PRODID:-//eventon.com NONSGML v1.0//EN
CALSCALE:GREGORIAN
METHOD:PUBLISH
BEGIN:VEVENT
UID:69e94caa5c715
DTSTAMP:20260422T223314Z
DTSTART:20220928T163000Z
DTEND:20220928T180000Z
LOCATION:
SUMMARY:USGBC Event
DESCRIPTION:USGBC Event\nhttps://www.texaspaceauthority.org/events/usgbc-ce
 ntral-tx-event/
URL:https://www.texaspaceauthority.org/events/usgbc-central-tx-event/
END:VEVENT
END:VCALENDAR